BEGIN:VCALENDAR
VERSION:2.0
PRODID:-//American Watchmakers - Clockmakers Institute - ECPv6.11.0.1//NONSGML v1.0//EN
CALSCALE:GREGORIAN
METHOD:PUBLISH
X-ORIGINAL-URL:https://www.awci.com
X-WR-CALDESC:Events for American Watchmakers - Clockmakers Institute
REFRESH-INTERVAL;VALUE=DURATION:PT1H
X-Robots-Tag:noindex
X-PUBLISHED-TTL:PT1H
BEGIN:VTIMEZONE
TZID:America/Denver
BEGIN:DAYLIGHT
TZOFFSETFROM:-0700
TZOFFSETTO:-0600
TZNAME:MDT
DTSTART:20260308T090000
END:DAYLIGHT
BEGIN:STANDARD
TZOFFSETFROM:-0600
TZOFFSETTO:-0700
TZNAME:MST
DTSTART:20261101T080000
END:STANDARD
END:VTIMEZONE
BEGIN:VEVENT
DTSTART;TZID=America/Denver:20260916T080000
DTEND;TZID=America/Denver:20260919T170000
DTSTAMP:20260420T112137
CREATED:20251230T164242Z
LAST-MODIFIED:20251230T164242Z
UID:77610-1789545600-1789837200@www.awci.com
SUMMARY:Full Study of the Cuckoo Clock
DESCRIPTION:Class Description: The course will be a full four-day study of both modern and vintage cuckoo clock movements\, including complete takedown and servicing of cuckoo movements\, study of the routines for servicing cuckoo movements and more. \nThe class will be taught by Jerry Faier\, CMC21\, FAWCI\, longtime bench clockmaker. \nClass size is 12 students. To register for the course\, contact AWCI Office Manager James Sprague at james@awci.com or 513-367-9800\, ext. 301. \nFull Study of the Cuckoo Clock \nDate:   September 16-19\, 2026\, 8 a.m. to 5 p.m. \nLocation:  AWCI Headquarters\, 701 Enterprise Drive\, Harrison\, Ohio 45030 \nClass cost:  $995 for members\, $1\,145 for non-members.  \nInstructor: Jerry Faier\, CMC21\, FAWCI \n 
URL:https://www.awci.com/event/cuckoo/
LOCATION:AWCI – Harrison\, Ohio\, 701 Enterprise Dr\, Harrison\, OH\, 45030\, United States
CATEGORIES:Education
ATTACH;FMTTYPE=image/jpeg:https://www.awci.com/wp-content/uploads/2025/12/Cuckoo-scaled.jpeg
ORGANIZER;CN="AWCI":MAILTO:education@awci.com
END:VEVENT
END:VCALENDAR