BEGIN:VCALENDAR
VERSION:2.0
PRODID:-//American Watchmakers - Clockmakers Institute - ECPv6.11.0.1//NONSGML v1.0//EN
CALSCALE:GREGORIAN
METHOD:PUBLISH
X-WR-CALNAME:American Watchmakers - Clockmakers Institute
X-ORIGINAL-URL:https://www.awci.com
X-WR-CALDESC:Events for American Watchmakers - Clockmakers Institute
REFRESH-INTERVAL;VALUE=DURATION:PT1H
X-Robots-Tag:noindex
X-PUBLISHED-TTL:PT1H
BEGIN:VTIMEZONE
TZID:America/Halifax
BEGIN:DAYLIGHT
TZOFFSETFROM:-0400
TZOFFSETTO:-0300
TZNAME:ADT
DTSTART:20260308T060000
END:DAYLIGHT
BEGIN:STANDARD
TZOFFSETFROM:-0300
TZOFFSETTO:-0400
TZNAME:AST
DTSTART:20261101T050000
END:STANDARD
END:VTIMEZONE
BEGIN:VEVENT
DTSTART;TZID=America/Halifax:20260427T080000
DTEND;TZID=America/Halifax:20260501T170000
DTSTAMP:20260419T140321
CREATED:20251104T142851Z
LAST-MODIFIED:20251104T142951Z
UID:77459-1777276800-1777654800@www.awci.com
SUMMARY:CW21 Exam
DESCRIPTION:The 2026 Spring CW21 Certification Exam Registration is now being accepted.\nAWCI will host CW21 certification at its headquarter April 27-May 1\, 2026\, offering two core components and all five available elective components during the certification period. As it was during CW21 certification in 2025\, the exam is modular and each component can be taken separately\, or multiple components can be taken at the same time. \nThe two core components that will be available are Precision Timing and Automatic Chronograph\, while the five elective components available to take are Balance Staffing\, Quartz Service\, Case and Bracelet Refinishing\, Water Resistance\, and Micromechanics. \nThose seeking CW21 certification must successfully pass the three core components—the other being Theory\, which is not being offered onsite at AWCI\, but CW21 candidates can take it remotely under the supervision of a proctor and arrangements with AWCI educational staff—and two electives to attain the highly regarded watchmaker certification. \nThe deadline to register for the Spring 2026 CW21 exam round is March 27\, 2026. \nFollowing the Fall exam round\, the AWCI CW21 assessment team will take the following week to assess the candidate exams from both the April and September exams\, prior to the week of the AWCI Fall Symposium\, and then notify those CW21 candidates of their results. \nRegistration cost for the available components is the following:\nCore Components\n\nAutomatic Chronograph: $1\,200\nPrecision Timing: $1\,000\n\nElective Components\n\nBalance Staffing: $800\nQuartz Service: $500\nCase and Bracelet Refinishing: $500\nWater Resistance: $500\nMicromechanics: $500\n\n\n\nPlease review the document’s and information on our website at the following addresses:\nCW21 \n \nWatchmaking standards \n \nBecome a Certified Watchmaker \n \nIf you have questions regarding the CW21 certification exam\, or to register for the CW21 certification exam\, contact AWCI Education Director Jason Champion\, CW21\, at jason@awci.com  or Office Manager James Sprague at james@awci.com
URL:https://www.awci.com/event/cw21-3-3-2-2/
LOCATION:AWCI – Harrison\, Ohio\, 701 Enterprise Dr\, Harrison\, OH\, 45030\, United States
CATEGORIES:Certification,Education
ATTACH;FMTTYPE=image/jpeg:https://www.awci.com/wp-content/uploads/2019/09/AWCI-Certified-sm.jpg
ORGANIZER;CN="AWCI":MAILTO:education@awci.com
END:VEVENT
END:VCALENDAR