BEGIN:VCALENDAR
VERSION:2.0
PRODID:-//American Watchmakers - Clockmakers Institute - ECPv6.11.0.1//NONSGML v1.0//EN
CALSCALE:GREGORIAN
METHOD:PUBLISH
X-WR-CALNAME:American Watchmakers - Clockmakers Institute
X-ORIGINAL-URL:https://www.awci.com
X-WR-CALDESC:Events for American Watchmakers - Clockmakers Institute
REFRESH-INTERVAL;VALUE=DURATION:PT1H
X-Robots-Tag:noindex
X-PUBLISHED-TTL:PT1H
BEGIN:VTIMEZONE
TZID:America/Halifax
BEGIN:DAYLIGHT
TZOFFSETFROM:-0400
TZOFFSETTO:-0300
TZNAME:ADT
DTSTART:20260308T060000
END:DAYLIGHT
BEGIN:STANDARD
TZOFFSETFROM:-0300
TZOFFSETTO:-0400
TZNAME:AST
DTSTART:20261101T050000
END:STANDARD
END:VTIMEZONE
BEGIN:VEVENT
DTSTART;TZID=America/Halifax:20261005T080000
DTEND;TZID=America/Halifax:20261009T150000
DTSTAMP:20260419T170044
CREATED:20251104T165158Z
LAST-MODIFIED:20251104T165158Z
UID:77497-1791187200-1791558000@www.awci.com
SUMMARY:Watch 175: Case and Bracelet Refinishing
DESCRIPTION:  \nPolishing a case today requires many skills. Complex case and bracelet designs are common in the marketplace. \nStandardized polishing methods were often not taught in watchmaking schools here in the U.S. until recently. Many watchmakers learned polishing by trial and error or observing the procedures of others. Today’s consumer has high expectations concerning the quality of the watch repair which includes the refinishing of the case and bracelet. Knowledge is the key. \nOur formal training program includes concepts and hands-on training in the following areas: \n\nCasing information\nCase and bracelet refinishing\nMetallurgy\nLathe finishes\nUse of modern variable speed polishers\nModern polishing techniques ensuring case shape integrity\nWater resistant testing\n\nThis course is designed to help you realize: \n\nA higher quality of service\nreduced come-backs due to moisture issues\nfaster turnaround time\nhigher customer satisfaction\n\nPrerequisites: Must be able to stand for long periods of time and operate machinery safely including the Lathe. \nLength of course: 48 hours in 5 days\, (9:00 a.m. – 5:00 p.m. M-T\, (9:00 a.m. – 3 p.m. Friday) \nCost $1\,645 for AWCI members / $1\,795 for non-members \nA polishing kit is included in the registration cost of this course.  Safety glasses\, a loupe (3-4x) and a lab coat or smock is required. \nContact AWCI to register for this class at education@awci.com or 866-367-2924. \n 
URL:https://www.awci.com/event/watch-175-case-and-bracelet-refinishing-2-2-2-2-2-2-2-2/
LOCATION:AWCI – Harrison\, Ohio\, 701 Enterprise Dr\, Harrison\, OH\, 45030\, United States
CATEGORIES:Education
ATTACH;FMTTYPE=image/jpeg:https://www.awci.com/wp-content/uploads/2017/10/Case-and-Bracelet-Becki-Anderson-e1511979306417.jpg
END:VEVENT
END:VCALENDAR