BEGIN:VCALENDAR
VERSION:2.0
PRODID:-//American Watchmakers - Clockmakers Institute - ECPv6.11.0.1//NONSGML v1.0//EN
CALSCALE:GREGORIAN
METHOD:PUBLISH
X-ORIGINAL-URL:https://www.awci.com
X-WR-CALDESC:Events for American Watchmakers - Clockmakers Institute
REFRESH-INTERVAL;VALUE=DURATION:PT1H
X-Robots-Tag:noindex
X-PUBLISHED-TTL:PT1H
BEGIN:VTIMEZONE
TZID:America/Halifax
BEGIN:DAYLIGHT
TZOFFSETFROM:-0400
TZOFFSETTO:-0300
TZNAME:ADT
DTSTART:20250309T060000
END:DAYLIGHT
BEGIN:STANDARD
TZOFFSETFROM:-0300
TZOFFSETTO:-0400
TZNAME:AST
DTSTART:20251102T050000
END:STANDARD
END:VTIMEZONE
BEGIN:VEVENT
DTSTART;TZID=America/Halifax:20250613T090000
DTEND;TZID=America/Halifax:20250613T180000
DTSTAMP:20260419T102756
CREATED:20250512T165223Z
LAST-MODIFIED:20250520T113555Z
UID:77230-1749805200-1749837600@www.awci.com
SUMMARY:AWCI Build a Watch event\, Horological Society of Utah
DESCRIPTION:  \nThe Horological Society of Utah has the unique pleasure to welcome the American Watchmakers and Clockmakers Institute\, and the Archie Perkins Mobile Classroom\, for an amazing experience of being a Watchmaker for a day. \nProfessional instructors will walk you through assembling your own Swiss Made ETA 6497 movement\, installing the dial and hands\, and casing it up before wearing it out on your wrist. You choose the customizations to make the watch uniquely yours. Any skill level is welcome in this class and absolutely no experience required. Benches\, tools\, and equipment are taken care of\, so all you need to do is show up. \nLunch will be provided. \nWatch details: \n42mm case\n22mm lugs\n50mm lug to lug distance\nDouble domed Sapphire Crystal\nWR to 100M\nSwiss DB9 manual wind movement\, Elabore Grade\nSuperluminova dial and hands (*if applicable)\nDrilled lug holes for quick and easy strap changes \nFor more information on AWCI’s Build a Watch event\, visit https://www.awci.com/buildawatch/ \nFor more information on the Horological Society of Utah\, visit https://www.hs-utah.org/ \nClass Size: Limited to 8 students. \nRegistration will be with the Horological Society of Utah \n 
URL:https://www.awci.com/event/build-a-watch-st-george-2-2/
LOCATION:Salt Lake City\, UT\, Salt Lake City\, UT\, United States
CATEGORIES:Education
ATTACH;FMTTYPE=image/jpeg:https://www.awci.com/wp-content/uploads/2023/04/image6-scaled.jpg
ORGANIZER;CN="AWCI":MAILTO:education@awci.com
END:VEVENT
BEGIN:VEVENT
DTSTART;TZID=America/Halifax:20250623T080000
DTEND;TZID=America/Halifax:20250627T150000
DTSTAMP:20260419T102756
CREATED:20241029T162236Z
LAST-MODIFIED:20250428T214834Z
UID:76972-1750665600-1751036400@www.awci.com
SUMMARY:Watch 230: Balance Staffing and Timing
DESCRIPTION:  \n  \nThe purpose of this course is to teach the student all the fundamentals of balance staffing. Topics covered will include the verification and analysis of the escapement function\, poising (static & dynamic)\, truing and timing adjustment in a mechanical watch. Cutting out a balance staff on a lathe and adjusting the balance staff\, and removing balance staffs from Glucydur balances with the Horia tool. \nPrerequisites: \n\nMinimum 3 years full-time experience in watch repair (and/or) having attended the following AWCI Courses:\n     WATCH 200: Modern Automatic Watches\nKnowledge of watch escapement\nKnowledge of the oscillator unit\nOwnership of necessary hand tools\nOwnership of the books The Theory of Horology and The Watch Repairer’s Manual is essential. Must read pages 99-166 of\n     The Theory of Horology prior to attending the course.\n\nLength of course: 40 hours in 5 days\, (Monday – Thursday 8:00 a.m. – 5:00 p.m.\, Friday 8:00 a.m. – 3:00 p.m.) \nCost $1195 for AWCI members $1345 for non-members \nFor the syllabus and the tool list for the class click here. \nContact AWCI to register for this class at education@awci.com or 866-367-2924. \n 
URL:https://www.awci.com/event/balance-staffing-and-timing-2-2/
LOCATION:AWCI – Harrison\, Ohio\, 701 Enterprise Dr\, Harrison\, OH\, 45030\, United States
CATEGORIES:Education
ATTACH;FMTTYPE=image/jpeg:https://www.awci.com/wp-content/uploads/2019/11/CleanWork-Balance-Staff-Roller-Complete.jpg
ORGANIZER;CN="AWCI":MAILTO:education@awci.com
END:VEVENT
END:VCALENDAR